BEGIN:VCALENDAR
VERSION:2.0
PRODID:-//futureLAB - ECPv6.8.1//NONSGML v1.0//EN
CALSCALE:GREGORIAN
METHOD:PUBLISH
X-WR-CALNAME:futureLAB
X-ORIGINAL-URL:https://futurelab.hs-pforzheim.de
X-WR-CALDESC:Veranstaltungen für futureLAB
REFRESH-INTERVAL;VALUE=DURATION:PT1H
X-Robots-Tag:noindex
X-PUBLISHED-TTL:PT1H
BEGIN:VTIMEZONE
TZID:Europe/Berlin
BEGIN:DAYLIGHT
TZOFFSETFROM:+0100
TZOFFSETTO:+0200
TZNAME:CEST
DTSTART:20220327T010000
END:DAYLIGHT
BEGIN:STANDARD
TZOFFSETFROM:+0200
TZOFFSETTO:+0100
TZNAME:CET
DTSTART:20221030T010000
END:STANDARD
END:VTIMEZONE
BEGIN:VEVENT
DTSTART;TZID=Europe/Berlin:20220126T171500
DTEND;TZID=Europe/Berlin:20220126T190000
DTSTAMP:20260423T205652
CREATED:20211103T111610Z
LAST-MODIFIED:20241103T122235Z
UID:10000004-1643217300-1643223600@futurelab.hs-pforzheim.de
SUMMARY:Ringvorlesung Digitalisierung: Process Analytics
DESCRIPTION:Das neue Jahr startet mit dem dritten Beitrag der Ringvorlesungsreihe im Wintersemester 2021/2022. Am 26.Januar 2022 gegen 17:15 Uhr begrüßen wir euch zu einem spannenden Vortrag zum Thema Process Analytics. \nVortragstitel: Process Analytics \nDigitalisierung ist vor allem für Unternehmen ein Game Changer. Viele Unternehmen haben diese Chancen bereits vor einer Dekade erkannt und organisatorische und technische Maßnahmen realisiert um vom Hype zu profitieren. So auch die Robert Bosch GmbH die im Geschäftsbereich Bosch Mobility Solutions mit der Gründung des „Process Analytics Powerhouse“ den nächsten konsequenten Schritt geht. Die Leiterin des Process Analytics Powerhouse Sabrina Niestroy\, studierte Medieninformatikerin\, stellt in ihrem interaktiven Vortrag die einmalige Vorgehensweise vor\, wie Bosch Mobility Solutions weitere Potenziale mithilfe von Process Mining nutzt. Hierbei erfahren die Zuhörenden\, was Process Mining ist und wie damit Verbesserungen erzielt werden können. Eine Live-Demonstration mit dem Tool „Celonis“ ist angedacht\, damit die Interessierten neben der Theorie auch Einblicke in die praktische Umsetzung erhalten können. \nRingvorlesung\, was ist das? \nBist Du noch im DigiTal\, oder auf dem DigiBerg? Oder: Was passiert\, wenn ich auf diesen Knopf drücke? Die Digitalisierung ist zwar in aller Munde. Wie lauten die Antworten auf diese etwas zugespitzten Fragen aber genau? Was bedeutet Digitalisierung? Wie können wir den Umgang mit ihr starten? Wie kann sie unser Leben – beruflich wie auch privat – sinnvoll erweitern?  Worauf müssen wir uns einstellen? Neuartige digitale Lösungen\, innovative Ideen und disruptive Technologien warten an jeder Ecke. Daher möchten wir mit der Ringvorlesung Digitalisierung ab diesem Wintersemester nach und nach durch monatliche Vorträge namhafter Experten und Vorreiterinnen das Thema Digitalisierung und vor allem auch seine Umsetzung in Industrie und Wirtschaft von unterschiedlichen Seiten beleuchten und ihre vielfältigen Facetten betrachten. Ob mit Flippern\, digitalen Währungen oder beim „Abbau“ von Daten. Spannende Einblicke warten\, die nicht verpasst werden dürfen. Bleibt nicht im DigiTal sitzen. Kommt mit uns und den Vortragenden auf die spannende Reise durch Höhen und Tiefen der Digitalisierung um vorbereitet zu sein auf das\, was kommt. \nAllgemeine Hinweise \nAufgrund der aktuellen Entwicklungen wird die Veranstaltung als reines Online-Event angeboten. Die Veranstaltung wird dabei mit Microsoft Teams stattfinden. Wir freuen uns auf einen interessanten Vortrag und eine spannende Diskussion im Anschluss.
URL:https://futurelab.hs-pforzheim.de/event/rvd-process-analytics/
LOCATION:Hochschule Pforzheim\, Tiefenbronner Straße 65\, Pforzheim\, 75175\, Germany
CATEGORIES:Ringvorlesung
ATTACH;FMTTYPE=image/png:https://futurelab.hs-pforzheim.de/wp-content/uploads/2021/12/ringvorlesung-process-analytics2.png
ORGANIZER;CN="futureLAB":MAILTO:Futurelab@hs-pforzheim.de
END:VEVENT
END:VCALENDAR