BEGIN:VCALENDAR
VERSION:2.0
PRODID:-//futureLAB - ECPv6.8.1//NONSGML v1.0//EN
CALSCALE:GREGORIAN
METHOD:PUBLISH
X-WR-CALNAME:futureLAB
X-ORIGINAL-URL:https://futurelab.hs-pforzheim.de
X-WR-CALDESC:Veranstaltungen für futureLAB
REFRESH-INTERVAL;VALUE=DURATION:PT1H
X-Robots-Tag:noindex
X-PUBLISHED-TTL:PT1H
BEGIN:VTIMEZONE
TZID:Europe/Berlin
BEGIN:DAYLIGHT
TZOFFSETFROM:+0100
TZOFFSETTO:+0200
TZNAME:CEST
DTSTART:20220327T010000
END:DAYLIGHT
BEGIN:STANDARD
TZOFFSETFROM:+0200
TZOFFSETTO:+0100
TZNAME:CET
DTSTART:20221030T010000
END:STANDARD
END:VTIMEZONE
BEGIN:VEVENT
DTSTART;TZID=Europe/Berlin:20221206T171500
DTEND;TZID=Europe/Berlin:20221206T190000
DTSTAMP:20260420T202433
CREATED:20220525T085618Z
LAST-MODIFIED:20241103T112348Z
UID:10000007-1670346900-1670353200@futurelab.hs-pforzheim.de
SUMMARY:Ringvorlesung Digitalisierung: KI in der Produktion
DESCRIPTION:Wir nähern uns bereits mit großen Schritten der vorletzten Ringvorlesung im Kalenderjahr 2022. In der vorweihnachtlichen Zeit haben wir eine Premiere im Angebot. Mit Kirsten Prill und David Schmitt von der Witzenmann GmbH haben wir erstmals zwei Referenten\, die aus verschiedenen praktischen Blickwinkeln aktuelle Entwicklungen im Bereich Künstliche Intelligenz (KI) in der Produktion beleuchten werden. Wir freuen uns schon auf die neuesten Erkenntnisse aus der Praxis und die zukünftigen Potentiale\, die KI mit sich bringen wird.  Die Veranstaltung findet am 06.Dezember 2022 ab 17:15 Uhr im Audimax und digital statt. \nVortragstitel: KI in der Produktion – innovative Technologien für die Produktion von Morgen \nDie Idee hinter KI ist nicht neu\, sondern wurde bereits vor rund 70 Jahren erstmals aufgegriffen. Innerhalb der letzten Dekade hat die KI-Technologie einen regelrechten Hype verursacht. Trotzdem ist KI heutzutage immer noch schwer greifbar und viele Anwendungsmöglichkeiten sind noch in der Entwicklung. Im Rahmen dieses spannenden Vortrags soll ein Beitrag zur Entmystifizierung der KI in der Produktion geleistet werden. Als Highlight wird Kirsten Prill gemeinsam mit David Schmitt von Witzenmann spannende Einblicke in verschiedene Projekte liefern. Unter anderem werden Sie erklären\, warum KI für Witzenmann interessant ist. An aktuellen Anwendungsfällen aus der Produktion soll das Vorgehen bei KI-Projekten erläutert werden. Wann lohnt sich der Business Case\, wie muss die Datenaufnahme gestaltet sein und wie kann ein Transfer in den Geschäftsbetrieb gewährleistet werden. Abschließend sollen Herausforderungen aufgezeigt werden und wie mit diesen erfolgreich umgegangen wird. Wir freuen uns schon sehr auf diesen Vortrag! \nRingvorlesung\, was ist das? \nBist Du noch im DigiTal\, oder auf dem DigiBerg? Oder: Was passiert\, wenn ich auf diesen Knopf drücke? Die Digitalisierung ist zwar in aller Munde. Wie lauten die Antworten auf diese etwas zugespitzten Fragen aber genau? Was bedeutet Digitalisierung? Wie können wir den Umgang mit ihr starten? Wie kann sie unser Leben – beruflich wie auch privat – sinnvoll erweitern?  Worauf müssen wir uns einstellen? Neuartige digitale Lösungen\, innovative Ideen und disruptive Technologien warten an jeder Ecke. Daher möchten wir mit der Ringvorlesung Digitalisierung ab diesem Wintersemester nach und nach durch monatliche Vorträge namhafter Experten und Vorreiterinnen das Thema Digitalisierung und vor allem auch seine Umsetzung in Industrie und Wirtschaft von unterschiedlichen Seiten beleuchten und ihre vielfältigen Facetten betrachten. Ob mit Flippern\, digitalen Währungen oder beim „Abbau“ von Daten. Spannende Einblicke warten\, die nicht verpasst werden dürfen. Bleibt nicht im DigiTal sitzen. Kommt mit uns und den Vortragenden auf die spannende Reise durch Höhen und Tiefen der Digitalisierung um vorbereitet zu sein auf das\, was kommt. \nAllgemeine Hinweise \nAufgrund der stark verbesserten aber noch nicht überstandenen Corona-Lage wollen wir das Event weiterhin als hybride Veranstaltung anbieten. Die Veranstaltung findet vor Ort im Audimax der Hochschule Pforzheim statt. Parallel dazu soll das Event auch über YouTube zur Verfügung gestellt werden. Externe Gäste sind herzlich willkommen. Wir freuen uns auf einen interessanten Vortrag und eine spannende Diskussion im Anschluss.
URL:https://futurelab.hs-pforzheim.de/event/rvd-ki-in-der-produktion/
LOCATION:Hochschule Pforzheim\, Tiefenbronner Straße 65\, Pforzheim\, 75175\, Germany
CATEGORIES:Ringvorlesung
ATTACH;FMTTYPE=image/png:https://futurelab.hs-pforzheim.de/wp-content/uploads/2022/06/ringvorlesung-ki-in-der-produktion.png
ORGANIZER;CN="futureLAB":MAILTO:Futurelab@hs-pforzheim.de
END:VEVENT
BEGIN:VEVENT
DTSTART;TZID=Europe/Berlin:20221213T171500
DTEND;TZID=Europe/Berlin:20221213T190000
DTSTAMP:20260420T202433
CREATED:20220809T100920Z
LAST-MODIFIED:20241103T113235Z
UID:10000010-1670951700-1670958000@futurelab.hs-pforzheim.de
SUMMARY:Ringvorlesung Digitalisierung: Smart Grids
DESCRIPTION:Das Semester startet fulminant mit der bereits dritten Ringvorlesung Digitalisierung im Dezember . Täglich spüren wir den von Kanzler Olaf Scholz ausgerufenen Zeitenwandel besonders an steigenden Energiekosten. Wie wichtig “intelligente Energien” und deren Steuerung zu Hause ist\, weiß auch Dr. Alexander Schuller\, der in diesem Bereich tätig ist. Er wird uns spannenden Einblicke in die Entwicklung von Smart Grids gewähren. Die Veranstaltung findet am 13.Dezember 2022 ab 17:15 Uhr im Audimax und digital via YouTube-Stream statt. \nVortragstitel: Heimenergiemanagement und intelligentes Laden von Elektrofahrzeugen – Ermöglicht durch Energie IoT-Lösungen \nMit dezentralen Energieerzeugungsstrukturen wollen wir zu mehr Unabhängigkeit vom Energieversorger. Auch wenn jeder Verbraucher sein eigener Erzeuger für Elektrizität sein kann\, waren nach Angaben der Europäischen Kommission im Jahre 2019 die Haushalte an 26% des gesamten Energieverbrauches verantwortlich. \nWie können Haushalte einen nachhaltigeren Energieverbrauch sicherstellen? \nHeimenergiemanagement-Systeme treiben einen Trend voran\, in dem wir autarke Endverbraucher sehen. Das sogenannte Heimenergiemanagement koordiniert und reguliert die Erzeugung und den Verbrauch von Strom in einem Haushalt. Dieser Vortrag soll eine Einführung über verschiedene HEMS-Ansätze liefern. Zusätzlich wird beleuchtet\, welche Rollen der flexible Großverbraucher\, Wärmepumpen und Elektrofahrzeuge im Zusammenspiel mit lokaler Erzeugung haben. Dabei werden auch aktuelle Herausforderungen betrachtet\, die aus technischer und regulatorischer Hinsicht bestehen. \nIm Anschluss wird ein Pilotprojekt vorgestellt. Hierbei werden Potentiale der gemeinsamen Optimierung von Photovoltaik-Erzeugung\, Batteriespeichern\, Wärmepumpen und insbesondere Elektrofahrzeugen näher erörtert. \nProfitiere von einem Vortrag\, der dir die Energiewende näher bringt und gleichzeitig einen Einblick in intelligente Lösungen für nachhaltigen Energieverbrauch liefert. \nRingvorlesung\, was ist das? \nBist Du noch im DigiTal\, oder auf dem DigiBerg? Oder: Was passiert\, wenn ich auf diesen Knopf drücke? Die Digitalisierung ist zwar in aller Munde. Wie lauten die Antworten auf diese etwas zugespitzten Fragen aber genau? Was bedeutet Digitalisierung? Wie können wir den Umgang mit ihr starten? Wie kann sie unser Leben – beruflich wie auch privat – sinnvoll erweitern?  Worauf müssen wir uns einstellen? Neuartige digitale Lösungen\, innovative Ideen und disruptive Technologien warten an jeder Ecke. Daher möchten wir mit der Ringvorlesung Digitalisierung ab diesem Wintersemester nach und nach durch monatliche Vorträge namhafter Experten und Vorreiterinnen das Thema Digitalisierung und vor allem auch seine Umsetzung in Industrie und Wirtschaft von unterschiedlichen Seiten beleuchten und ihre vielfältigen Facetten betrachten. Ob mit Flippern\, digitalen Währungen oder beim „Abbau“ von Daten. Spannende Einblicke warten\, die nicht verpasst werden dürfen. Bleibt nicht im DigiTal sitzen. Kommt mit uns und den Vortragenden auf die spannende Reise durch Höhen und Tiefen der Digitalisierung um vorbereitet zu sein auf das\, was kommt. \nAllgemeine Hinweise \nAufgrund der stark verbesserten aber noch nicht überstandenen Corona-Lage wollen wir das Event weiterhin als hybride Veranstaltung anbieten. Die Veranstaltung findet vor Ort im Audimax der Hochschule Pforzheim statt. Parallel dazu soll das Event auch über YouTube zur Verfügung gestellt werden. Externe Gäste sind herzlich willkommen. Wir freuen uns auf einen interessanten Vortrag und eine spannende Diskussion im Anschluss.
URL:https://futurelab.hs-pforzheim.de/event/rvd-smart-grids/
LOCATION:Hochschule Pforzheim\, Tiefenbronner Straße 65\, Pforzheim\, 75175\, Germany
CATEGORIES:Ringvorlesung
ATTACH;FMTTYPE=image/png:https://futurelab.hs-pforzheim.de/wp-content/uploads/2022/08/ringvorlesung.png
ORGANIZER;CN="futureLAB":MAILTO:Futurelab@hs-pforzheim.de
END:VEVENT
BEGIN:VEVENT
DTSTART;TZID=Europe/Berlin:20221216T173000
DTEND;TZID=Europe/Berlin:20221216T230000
DTSTAMP:20260420T202433
CREATED:20221124T115756Z
LAST-MODIFIED:20241103T114132Z
UID:10000013-1671211800-1671231600@futurelab.hs-pforzheim.de
SUMMARY:Weihnachtsfeier Wirtschaftsinformatik 2022
DESCRIPTION:Weihnachtsfeier der Wirtschaftsinformatiker / Christmas Party 2022\nRaum / Location: W3.2.04 \nDatum / Date :    16. Dezember 2022 Start 17:30 Uhr / 16 December 2022 Start 5:30 pm \nWas / What:         Gemütlicher Jahresausklang der Wirtschaftsinformatik mit leckerem Essen und Trinken  / Pleasant end of the year party with tasty food and drinks in the group of the faculty of business informatics \nWichtig für Euch / Important for you: \n\nSchnellstmöglich anmelden\, damit Orga-Team besser planen kann!\nFast registration helps Orga team to optimize planning!\nKuchenspende oder Salatspende: Hilf mit und lass uns das Buffet genießen!\nDonate a cake or salad: Help out and let’s enjoy the buffet!\nSei dabei! Ob BDEM\, BWMI oder MIS\, alle sind willkommen: Mach auch du mit!\nBe there! Whether BDEM\, BWMI or MIS\, all are welcome: You too can join us!\n\n\nLiebe Kommilitonen\, liebe Profs und liebe Mitarbeiter der Wirtschaftsinformatik\, \nlasst uns feiern am Freitag\, 16. Dezember 2022 ab 17:30 Uhr bei der Weihnachtsfeier der Wirtschaftsinformatiker!\nGemeinsam in entspannter Atmosphäre einen schönen Abend genießen. Tolle Begegnungen miteinander\, mit den Profs und Mitarbeitern: Einfach mal entspannen!\nWeihnachtliche Musik\, winterliche Getränke und nettes Essen werden uns alle beflügeln. Kommt gerne auch mit passendem Outfit!  Essen (Fleisch/ Vegetarisch/Vegan) und Getränke (mit / ohne Alkohol) gibt es zu Studi-kompatibel geringen Preisen! Tausend gute Gründe: Sei dabei! \n \nDear fellow students\, dear profs and dear staff of Business Information Systems\, \nLet’s meet on Friday\, December 16\, 2022 starting at 5:30 pm at the Business Informatics Christmas Party!\nCome together and spend a great evening in a relaxed atmosphere. \nMany great encounters and also just a relaxed chat with the profs and staff? Christmas music\, wintry drinks and nice food will inspire all of us. Feel free to come with a matching outfit! Food (meat/ vegetarian/ vegan) and drinks (with / without alcohol) are available at student-compatible low prices! Thousands of good reasons: Be there!
URL:https://futurelab.hs-pforzheim.de/event/weihnachtsfeier-wi-2022/
LOCATION:Hochschule Pforzheim\, Tiefenbronner Straße 65\, Pforzheim\, 75175\, Germany
CATEGORIES:Festivitäten
ATTACH;FMTTYPE=image/png:https://futurelab.hs-pforzheim.de/wp-content/uploads/2022/11/wi-weihnachtsfeier-2022.png
ORGANIZER;CN="futureLAB":MAILTO:Futurelab@hs-pforzheim.de
END:VEVENT
END:VCALENDAR