BEGIN:VCALENDAR
VERSION:2.0
PRODID:-//futureLAB - ECPv6.8.1//NONSGML v1.0//EN
CALSCALE:GREGORIAN
METHOD:PUBLISH
X-ORIGINAL-URL:https://futurelab.hs-pforzheim.de
X-WR-CALDESC:Veranstaltungen für futureLAB
REFRESH-INTERVAL;VALUE=DURATION:PT1H
X-Robots-Tag:noindex
X-PUBLISHED-TTL:PT1H
BEGIN:VTIMEZONE
TZID:Europe/Berlin
BEGIN:DAYLIGHT
TZOFFSETFROM:+0100
TZOFFSETTO:+0200
TZNAME:CEST
DTSTART:20220327T010000
END:DAYLIGHT
BEGIN:STANDARD
TZOFFSETFROM:+0200
TZOFFSETTO:+0100
TZNAME:CET
DTSTART:20221030T010000
END:STANDARD
END:VTIMEZONE
BEGIN:VEVENT
DTSTART;TZID=Europe/Berlin:20220426T171500
DTEND;TZID=Europe/Berlin:20220426T190000
DTSTAMP:20260423T113256
CREATED:20220412T064624Z
LAST-MODIFIED:20241103T112133Z
UID:10000006-1650993300-1650999600@futurelab.hs-pforzheim.de
SUMMARY:Ringvorlesung Digitalisierung: Letzte Meile neu gedacht
DESCRIPTION:Die zweite Ringvorlesung für das Sommersemester 2022 steht an und wir haben dieses Mal ein spannendes Thema aus dem Bereich Logistik im Angebot. Maximilian Winter vom efeuCampus in Bruchsal  wird uns spannende Einblicke in die Zukunft innovativer Logistikkonzepte für einen schnell wachsenden urbanen Raum präsentieren. Leitgedanke des Vortrags: Wie können wir die „letzte Meile“ der Zustellung neu denken? Wir sind schon auf seine Antworten gespannt. Die Veranstaltung findet am 26.April 2022 ab 17:15 Uhr im Audimax und digital statt. \nVortragstitel: Letzte Meile neu gedacht: Von der Fabrik in den urbanen Raum – innovative Logistikkonzepte für eine durchgängige Logistikkette \nDie Paketbranche wächst immer mehr und hat zuletzt durch die Pandemie einen weiteren Boost erhalten. Diese Entwicklung in Kombination mit dem Arbeitskräftemangel\, dem Ziel lebenswerterer Städte und dem „Green Deal“ der EU erfordert neue Lösungsansätze für die Logistik. In diesem Vortrag werden einige neuartige Logistikkonzepte betrachtet und das Reallabor efeuCampus Bruchsal beispielhaft vorgestellt. \nMaximilian Winter hat am KIT in Karlsruhe seinen Bachelor und Master in Maschinenbau absolviert mit Schwerpunkt im Bereich Forschung & Innovation. Darüber ist er in agilen Entwicklungsmethoden wie Scrum spezialisiert. Bereits seine Abschlussarbeit hat er bei SEW in der Forschungsabteilung im Bereich „urbane Logistik“ geschrieben. Seitdem leitet er Projekte im Forschungsbereich urbane Logistik bei SEW\, beispielsweise das efeuCampus Projekt. \nRingvorlesung\, was ist das? \nBist Du noch im DigiTal\, oder auf dem DigiBerg? Oder: Was passiert\, wenn ich auf diesen Knopf drücke? Die Digitalisierung ist zwar in aller Munde. Wie lauten die Antworten auf diese etwas zugespitzten Fragen aber genau? Was bedeutet Digitalisierung? Wie können wir den Umgang mit ihr starten? Wie kann sie unser Leben – beruflich wie auch privat – sinnvoll erweitern?  Worauf müssen wir uns einstellen? Neuartige digitale Lösungen\, innovative Ideen und disruptive Technologien warten an jeder Ecke. Daher möchten wir mit der Ringvorlesung Digitalisierung ab diesem Wintersemester nach und nach durch monatliche Vorträge namhafter Experten und Vorreiterinnen das Thema Digitalisierung und vor allem auch seine Umsetzung in Industrie und Wirtschaft von unterschiedlichen Seiten beleuchten und ihre vielfältigen Facetten betrachten. Ob mit Flippern\, digitalen Währungen oder beim „Abbau“ von Daten. Spannende Einblicke warten\, die nicht verpasst werden dürfen. Bleibt nicht im DigiTal sitzen. Kommt mit uns und den Vortragenden auf die spannende Reise durch Höhen und Tiefen der Digitalisierung um vorbereitet zu sein auf das\, was kommt. \nAllgemeine Hinweise \nAufgrund der verbesserten Corona-Lage wollen wir das Event als hybride Veranstaltung anbieten. Die Veranstaltung findet vor Ort im Audimax der Hochschule Pforzheim statt. Parallel dazu soll das Event auch über YouTube zur Verfügung gestellt werden. Externe Gäste sind herzlich willkommen. Wir freuen uns auf einen interessanten Vortrag und eine spannende
URL:https://futurelab.hs-pforzheim.de/event/rvd-letzte-meile-neu-gedacht/
LOCATION:Hochschule Pforzheim\, Tiefenbronner Straße 65\, Pforzheim\, 75175\, Germany
CATEGORIES:Ringvorlesung
ATTACH;FMTTYPE=image/png:https://futurelab.hs-pforzheim.de/wp-content/uploads/2022/04/ringvorlesung-letzte-meile.png
ORGANIZER;CN="futureLAB":MAILTO:Futurelab@hs-pforzheim.de
END:VEVENT
END:VCALENDAR